BEGIN:VCALENDAR
VERSION:2.0
PRODID:-//Menorca//iCal Event Maker//IT
X-WR-CALNAME:Menorca
CALSCALE:GREGORIAN
BEGIN:VTIMEZONE
TZID:Europe/Rome
TZURL:http://tzurl.org/zoneinfo-outlook/Europe/Rome
X-LIC-LOCATION:Europe/Rome
BEGIN:DAYLIGHT
TZOFFSETFROM:+0100
TZOFFSETTO:+0200
TZNAME:CEST
DTSTART:19700329T020000
RRULE:FREQ=YEARLY;BYMONTH=3;BYDAY=-1SU
END:DAYLIGHT
BEGIN:STANDARD
TZOFFSETFROM:+0200
TZOFFSETTO:+0100
TZNAME:CET
DTSTART:19701025T030000
RRULE:FREQ=YEARLY;BYMONTH=10;BYDAY=-1SU
END:STANDARD
END:VTIMEZONE
BEGIN:VEVENT
CREATED:20260423T115516
DTSTAMP:20260423T144656
UID:39732
DTSTART:20260423T100000
DTEND:20260425T200000
LOCATION:Menorca, Spagna
GEO:39.9991163;39.9991163
DESCRIPTION:Menorca – Dia del Libro – hasta el 25 de abril Sant Jordi en Menorca: el dia de los libros y la lectura anima la isla. La fiesta de Sant Jordi vuelve a Menorca con un amplio programa de actividades dedicadas a los libros, la lectura y la cultura. Entre el 17 y el 25 de abril, todos los municipios de la isla se convierten en espacios de encuentro entre ...
SUMMARY:Menorca – Dia del Libro – hasta el 25 de abril
ORGANIZER:Menorca
URL;VALUE=URI:https://www.isoladiminorca.com/es/eventos-menorca/menorca-dia-del-libro-hasta-el-25-de-abril
TRANSP:OPAQUE
BEGIN:VALARM
ACTION:DISPLAY
TRIGGER;VALUE=DATE-TIME:20260422T100000
DESCRIPTION:Menorca – Dia del Libro – hasta el 25 de abril
END:VALARM
END:VEVENT
END:VCALENDAR
