BEGIN:VCALENDAR
VERSION:2.0
PRODID:-//Menorca//iCal Event Maker//IT
X-WR-CALNAME:Menorca
CALSCALE:GREGORIAN
BEGIN:VTIMEZONE
TZID:Europe/Rome
TZURL:http://tzurl.org/zoneinfo-outlook/Europe/Rome
X-LIC-LOCATION:Europe/Rome
BEGIN:DAYLIGHT
TZOFFSETFROM:+0100
TZOFFSETTO:+0200
TZNAME:CEST
DTSTART:19700329T020000
RRULE:FREQ=YEARLY;BYMONTH=3;BYDAY=-1SU
END:DAYLIGHT
BEGIN:STANDARD
TZOFFSETFROM:+0200
TZOFFSETTO:+0100
TZNAME:CET
DTSTART:19701025T030000
RRULE:FREQ=YEARLY;BYMONTH=10;BYDAY=-1SU
END:STANDARD
END:VTIMEZONE
BEGIN:VEVENT
CREATED:20260418T100435
DTSTAMP:20260421T105221
UID:39583
DTSTART:20260430T100000
DTEND:20260502T200000
LOCATION:Mahón, Spagna
GEO:39.8879487;39.8879487
DESCRIPTION:Mahón – Vi Menorca Fest – del 30 de abril al 2 de mayo Del 30 de abril al 2 de mayo, «haremos que Mahón se convierta en la capital del vino», declaró este viernes el alcalde Héctor Pons durante la presentación de un nuevo evento social, cultural y enogastronómico, el Vi Menorca Fest, creado para poner en valor la calidad del vino producido en la isla. El evento, promovido ...
SUMMARY:Mahón – Vi Menorca Fest – del 30 de abril al 2 de mayo
ORGANIZER:Menorca
URL;VALUE=URI:https://www.isoladiminorca.com/es/eventos-menorca/mahon-vi-menorca-fest-del-30-de-abril-al-2-de-mayo
TRANSP:OPAQUE
BEGIN:VALARM
ACTION:DISPLAY
TRIGGER;VALUE=DATE-TIME:20260429T100000
DESCRIPTION:Mahón – Vi Menorca Fest – del 30 de abril al 2 de mayo
END:VALARM
END:VEVENT
END:VCALENDAR
