BEGIN:VCALENDAR
VERSION:2.0
PRODID:-//Menorca//iCal Event Maker//IT
X-WR-CALNAME:Menorca
CALSCALE:GREGORIAN
BEGIN:VTIMEZONE
TZID:Europe/Rome
TZURL:http://tzurl.org/zoneinfo-outlook/Europe/Rome
X-LIC-LOCATION:Europe/Rome
BEGIN:DAYLIGHT
TZOFFSETFROM:+0100
TZOFFSETTO:+0200
TZNAME:CEST
DTSTART:19700329T020000
RRULE:FREQ=YEARLY;BYMONTH=3;BYDAY=-1SU
END:DAYLIGHT
BEGIN:STANDARD
TZOFFSETFROM:+0200
TZOFFSETTO:+0100
TZNAME:CET
DTSTART:19701025T030000
RRULE:FREQ=YEARLY;BYMONTH=10;BYDAY=-1SU
END:STANDARD
END:VTIMEZONE
BEGIN:VEVENT
CREATED:20260424T152251
DTSTAMP:20260424T175029
UID:39757
DTSTART:20260428T170000
DTEND:20260428T190000
LOCATION:Mahón, Spagna
GEO:39.8879487;39.8879487
DESCRIPTION:Mahon – "Parliamo di Arte” – 28 de abril Lugar: Museo de Menorca Hora: 17:00 Apto para todo tipo de público Entrada gratuita Todas las actividades requieren inscripción previa llamando al 971 350 955. Se puede solicitar el servicio de lengua de signos (LSC) con una semana de antelación (en colaboración con la Fundación para las personas con discapacidad de Menorca). Conversaciones en italiano: «Parliamo di Arte» En este segundo ...
SUMMARY:Mahon – "Parliamo di Arte” – 28 de abril
ORGANIZER:Menorca
URL;VALUE=URI:https://www.isoladiminorca.com/es/eventos-menorca/mahon-parliamo-di-arte-28-de-abril
TRANSP:OPAQUE
BEGIN:VALARM
ACTION:DISPLAY
TRIGGER;VALUE=DATE-TIME:20260427T170000
DESCRIPTION:Mahon – "Parliamo di Arte” – 28 de abril
END:VALARM
END:VEVENT
END:VCALENDAR
