BEGIN:VCALENDAR
VERSION:2.0
PRODID:-//Menorca//iCal Event Maker//IT
X-WR-CALNAME:Menorca
CALSCALE:GREGORIAN
BEGIN:VTIMEZONE
TZID:Europe/Rome
TZURL:http://tzurl.org/zoneinfo-outlook/Europe/Rome
X-LIC-LOCATION:Europe/Rome
BEGIN:DAYLIGHT
TZOFFSETFROM:+0100
TZOFFSETTO:+0200
TZNAME:CEST
DTSTART:19700329T020000
RRULE:FREQ=YEARLY;BYMONTH=3;BYDAY=-1SU
END:DAYLIGHT
BEGIN:STANDARD
TZOFFSETFROM:+0200
TZOFFSETTO:+0100
TZNAME:CET
DTSTART:19701025T030000
RRULE:FREQ=YEARLY;BYMONTH=10;BYDAY=-1SU
END:STANDARD
END:VTIMEZONE
BEGIN:VEVENT
CREATED:20260411T141108
DTSTAMP:20260421T105531
UID:39384
DTSTART:20260417T100000
DTEND:20260430T200000
LOCATION:Mahón, Spagna
GEO:39.8879487;39.8879487
DESCRIPTION:Mahon – Memoria del contacto – del 17 al 30 de abril Lugar: Island Mood Entrada libre   La exposición «Memoria del contacto» de la artista Marina Pons Wolff, presentada en el marco de Opening Menorca en el espacio Island Mood, reúne unas veinte obras pertenecientes a una misma línea de investigación artística. La exposición, que podrá visitarse del 17 al 30 de abril, se centra en el profundo vínculo ...
SUMMARY:Mahon – Memoria del contacto – del 17 al 30 de abril
ORGANIZER:Menorca
URL;VALUE=URI:https://www.isoladiminorca.com/es/eventos-menorca/mahon-memoria-del-contacto-del-17-al-30-de-abril
TRANSP:OPAQUE
BEGIN:VALARM
ACTION:DISPLAY
TRIGGER;VALUE=DATE-TIME:20260416T100000
DESCRIPTION:Mahon – Memoria del contacto – del 17 al 30 de abril
END:VALARM
END:VEVENT
END:VCALENDAR
