BEGIN:VCALENDAR
VERSION:2.0
PRODID:-//Menorca//iCal Event Maker//IT
X-WR-CALNAME:Menorca
CALSCALE:GREGORIAN
BEGIN:VTIMEZONE
TZID:Europe/Rome
TZURL:http://tzurl.org/zoneinfo-outlook/Europe/Rome
X-LIC-LOCATION:Europe/Rome
BEGIN:DAYLIGHT
TZOFFSETFROM:+0100
TZOFFSETTO:+0200
TZNAME:CEST
DTSTART:19700329T020000
RRULE:FREQ=YEARLY;BYMONTH=3;BYDAY=-1SU
END:DAYLIGHT
BEGIN:STANDARD
TZOFFSETFROM:+0200
TZOFFSETTO:+0100
TZNAME:CET
DTSTART:19701025T030000
RRULE:FREQ=YEARLY;BYMONTH=10;BYDAY=-1SU
END:STANDARD
END:VTIMEZONE
BEGIN:VEVENT
CREATED:20260420T133457
DTSTAMP:20260421T111553
UID:39702
DTSTART:20260423T180000
DTEND:20260423T203000
LOCATION:Es Mercadal, Spagna
GEO:39.9873778;39.9873778
DESCRIPTION:Es Mercadal – Puerta abiertas al taller de Pere Vinent – 23 de abril Dirección: C/Pla de ses Eres, 4 – Es Mercadal Hora: 18:00 – 20:30   Jornadas de puertas abiertas en el taller de Pere Vinent: el arte del torneado de la madera de Menorca. Durante la jornada de puertas abiertas, el público podrá descubrir el taller de torneado y una pequeña exposición de piezas realizadas a lo ...
SUMMARY:Es Mercadal – Puerta abiertas al taller de Pere Vinent – 23 de abril
ORGANIZER:Menorca
URL;VALUE=URI:https://www.isoladiminorca.com/es/eventos-menorca/es-mercadal-puerta-abiertas-al-taller-de-pere-vinent-23-de-abril
TRANSP:OPAQUE
BEGIN:VALARM
ACTION:DISPLAY
TRIGGER;VALUE=DATE-TIME:20260422T180000
DESCRIPTION:Es Mercadal – Puerta abiertas al taller de Pere Vinent – 23 de abril
END:VALARM
END:VEVENT
END:VCALENDAR
