BEGIN:VCALENDAR
VERSION:2.0
PRODID:-//Menorca//iCal Event Maker//IT
X-WR-CALNAME:Menorca
CALSCALE:GREGORIAN
BEGIN:VTIMEZONE
TZID:Europe/Rome
TZURL:http://tzurl.org/zoneinfo-outlook/Europe/Rome
X-LIC-LOCATION:Europe/Rome
BEGIN:DAYLIGHT
TZOFFSETFROM:+0100
TZOFFSETTO:+0200
TZNAME:CEST
DTSTART:19700329T020000
RRULE:FREQ=YEARLY;BYMONTH=3;BYDAY=-1SU
END:DAYLIGHT
BEGIN:STANDARD
TZOFFSETFROM:+0200
TZOFFSETTO:+0100
TZNAME:CET
DTSTART:19701025T030000
RRULE:FREQ=YEARLY;BYMONTH=10;BYDAY=-1SU
END:STANDARD
END:VTIMEZONE
BEGIN:VEVENT
CREATED:20260413T182019
DTSTAMP:20260421T110318
UID:39407
DTSTART:20260423T100000
DTEND:20260426T230000
LOCATION:Ciutadella de Menorca, Spagna
GEO:39.9991163;39.9991163
DESCRIPTION:Ciutadella – Menorca Lindy Exchange 2026 – del 23 al 26 de abril   El Menorca Lindy Exchange 2026 es un evento dedicado a la música swing y al baile Lindy Hop, que tendrá lugar en Menorca del 23 al 26 de abril de 2026, en el marco del Menorca Jazz Festival. Se trata de un fin de semana largo concebido como punto de encuentro para los amantes del swing, ...
SUMMARY:Ciutadella – Menorca Lindy Exchange 2026 – del 23 al 26 de abril
ORGANIZER:Menorca
URL;VALUE=URI:https://www.isoladiminorca.com/es/eventos-menorca/ciutadella-menorca-lindy-exchange-2026-del-23-al-26-de-abril
TRANSP:OPAQUE
BEGIN:VALARM
ACTION:DISPLAY
TRIGGER;VALUE=DATE-TIME:20260422T100000
DESCRIPTION:Ciutadella – Menorca Lindy Exchange 2026 – del 23 al 26 de abril
END:VALARM
END:VEVENT
END:VCALENDAR
