BEGIN:VCALENDAR
VERSION:2.0
PRODID:-//Menorca//iCal Event Maker//IT
X-WR-CALNAME:Menorca
CALSCALE:GREGORIAN
BEGIN:VTIMEZONE
TZID:Europe/Rome
TZURL:http://tzurl.org/zoneinfo-outlook/Europe/Rome
X-LIC-LOCATION:Europe/Rome
BEGIN:DAYLIGHT
TZOFFSETFROM:+0100
TZOFFSETTO:+0200
TZNAME:CEST
DTSTART:19700329T020000
RRULE:FREQ=YEARLY;BYMONTH=3;BYDAY=-1SU
END:DAYLIGHT
BEGIN:STANDARD
TZOFFSETFROM:+0200
TZOFFSETTO:+0100
TZNAME:CET
DTSTART:19701025T030000
RRULE:FREQ=YEARLY;BYMONTH=10;BYDAY=-1SU
END:STANDARD
END:VTIMEZONE
BEGIN:VEVENT
CREATED:20260417T105916
DTSTAMP:20260420T103320
UID:39539
DTSTART:20260418T100000
DTEND:20260418T200000
LOCATION:Alaior, Spagna
GEO:39.9344824;39.9344824
DESCRIPTION:Alaior – Exposición «Mare Nostrum» – 18 de abril Lugar: Convento de San Diego Horario: de 10:00 a 20:00 Entrada libre Con motivo del Día Mundial del Arte, la galería Pinzellades d’Art organiza una jornada totalmente dedicada al arte y a la creatividad. En el evocador Pati de Sa Lluna, de 10:00 a 13:30, el público podrá sumergirse en una experiencia artística en directo que combina pintura en vivo, música ...
SUMMARY:Alaior – Exposición «Mare Nostrum» – 18 de abril
ORGANIZER:Menorca
URL;VALUE=URI:https://www.isoladiminorca.com/es/eventos-menorca/alaior-exposicion-mare-nostrum-18-de-abril
TRANSP:OPAQUE
BEGIN:VALARM
ACTION:DISPLAY
TRIGGER;VALUE=DATE-TIME:20260417T100000
DESCRIPTION:Alaior – Exposición «Mare Nostrum» – 18 de abril
END:VALARM
END:VEVENT
END:VCALENDAR
