BEGIN:VCALENDAR
VERSION:2.0
PRODID:-//Minorca//iCal Event Maker//IT
X-WR-CALNAME:Minorca
CALSCALE:GREGORIAN
BEGIN:VTIMEZONE
TZID:Europe/Rome
TZURL:http://tzurl.org/zoneinfo-outlook/Europe/Rome
X-LIC-LOCATION:Europe/Rome
BEGIN:DAYLIGHT
TZOFFSETFROM:+0100
TZOFFSETTO:+0200
TZNAME:CEST
DTSTART:19700329T020000
RRULE:FREQ=YEARLY;BYMONTH=3;BYDAY=-1SU
END:DAYLIGHT
BEGIN:STANDARD
TZOFFSETFROM:+0200
TZOFFSETTO:+0100
TZNAME:CET
DTSTART:19701025T030000
RRULE:FREQ=YEARLY;BYMONTH=10;BYDAY=-1SU
END:STANDARD
END:VTIMEZONE
BEGIN:VEVENT
CREATED:20260423T113855
DTSTAMP:20260423T143049
UID:39730
DTSTART:20260423T100000
DTEND:20260425T200000
LOCATION:Menorca, Spagna
GEO:39.9991163;39.9991163
DESCRIPTION:Menorca – Festa del Libro – fino al 25 aprile Sant Jordi a Minorca: la festa dei libri e della lettura anima l’isola. La festa di Sant Jordi torna a Minorca con un ricco calendario di appuntamenti dedicati ai libri, alla lettura e alla cultura. Tra il 17 e il 25 aprile, tutti i comuni dell’isola si trasformano in spazi di incontro tra autori, lettori e appassionati, con un programma ...
SUMMARY:Menorca – Festa del Libro – fino al 25 aprile
ORGANIZER:Minorca
URL;VALUE=URI:https://www.isoladiminorca.com/calendario-eventi/menorca-festa-del-libro-fino-al-25-aprile
TRANSP:OPAQUE
BEGIN:VALARM
ACTION:DISPLAY
TRIGGER;VALUE=DATE-TIME:20260422T100000
DESCRIPTION:Menorca – Festa del Libro – fino al 25 aprile
END:VALARM
END:VEVENT
END:VCALENDAR
