BEGIN:VCALENDAR
VERSION:2.0
PRODID:-//Minorca//iCal Event Maker//IT
X-WR-CALNAME:Minorca
CALSCALE:GREGORIAN
BEGIN:VTIMEZONE
TZID:Europe/Rome
TZURL:http://tzurl.org/zoneinfo-outlook/Europe/Rome
X-LIC-LOCATION:Europe/Rome
BEGIN:DAYLIGHT
TZOFFSETFROM:+0100
TZOFFSETTO:+0200
TZNAME:CEST
DTSTART:19700329T020000
RRULE:FREQ=YEARLY;BYMONTH=3;BYDAY=-1SU
END:DAYLIGHT
BEGIN:STANDARD
TZOFFSETFROM:+0200
TZOFFSETTO:+0100
TZNAME:CET
DTSTART:19701025T030000
RRULE:FREQ=YEARLY;BYMONTH=10;BYDAY=-1SU
END:STANDARD
END:VTIMEZONE
BEGIN:VEVENT
CREATED:20260418T095742
DTSTAMP:20260420T135043
UID:39580
DTSTART:20260430T100000
DTEND:20260502T200000
LOCATION:Mahón, Spagna
GEO:39.8879487;39.8879487
DESCRIPTION:Mahon – Vi Menorca Festival – dal 30 aprile al 2 maggio Dal 30 aprile al 3 maggio, «faremo in modo che Mahón diventi la capitale del vino», ha dichiarato questo venerdì il sindaco Héctor Pons durante la presentazione di un nuovo evento sociale, culturale ed enogastronomico, la rassegna Vi Menorca Fest, nata per valorizzare la qualità del vino prodotto sull’isola. L’evento, promosso dal Comune di Mahón e dall’Associazione dei ...
SUMMARY:Mahon – Vi Menorca Festival – dal 30 aprile al 2 maggio
ORGANIZER:Minorca
URL;VALUE=URI:https://www.isoladiminorca.com/calendario-eventi/mahon-vi-menorca-festival-dal-30-aprile-al-2-maggio
TRANSP:OPAQUE
BEGIN:VALARM
ACTION:DISPLAY
TRIGGER;VALUE=DATE-TIME:20260429T100000
DESCRIPTION:Mahon – Vi Menorca Festival – dal 30 aprile al 2 maggio
END:VALARM
END:VEVENT
END:VCALENDAR
