BEGIN:VCALENDAR
VERSION:2.0
PRODID:-//Minorca//iCal Event Maker//IT
X-WR-CALNAME:Minorca
CALSCALE:GREGORIAN
BEGIN:VTIMEZONE
TZID:Europe/Rome
TZURL:http://tzurl.org/zoneinfo-outlook/Europe/Rome
X-LIC-LOCATION:Europe/Rome
BEGIN:DAYLIGHT
TZOFFSETFROM:+0100
TZOFFSETTO:+0200
TZNAME:CEST
DTSTART:19700329T020000
RRULE:FREQ=YEARLY;BYMONTH=3;BYDAY=-1SU
END:DAYLIGHT
BEGIN:STANDARD
TZOFFSETFROM:+0200
TZOFFSETTO:+0100
TZNAME:CET
DTSTART:19701025T030000
RRULE:FREQ=YEARLY;BYMONTH=10;BYDAY=-1SU
END:STANDARD
END:VTIMEZONE
BEGIN:VEVENT
CREATED:20260424T151852
DTSTAMP:20260425T141844
UID:39754
DTSTART:20260428T170000
DTEND:20260428T190000
LOCATION:Mahón, Spagna
GEO:39.8879487;39.8879487
DESCRIPTION:Mahon – Parliamo di Arte – 28 aprile Presso: Museo di Minorca Ore 17:00 Adatto a tutti i tipo di pubblico Ingresso gratuito Per partecipare è necessario chiamare il numero 971 350 955. È possibile richiedere il servizio di lingua dei segni (LSC) con una settimana di anticipo (in collaborazione con la Fondazione per le persone con disabilità di Minorca). Conversazioni in italiano: «Parliamo di arte» In questo secondo incontro ...
SUMMARY:Mahon – Parliamo di Arte – 28 aprile
ORGANIZER:Minorca
URL;VALUE=URI:https://www.isoladiminorca.com/calendario-eventi/mahon-parliamo-di-arte-28-aprile
TRANSP:OPAQUE
BEGIN:VALARM
ACTION:DISPLAY
TRIGGER;VALUE=DATE-TIME:20260427T170000
DESCRIPTION:Mahon – Parliamo di Arte – 28 aprile
END:VALARM
END:VEVENT
END:VCALENDAR
