BEGIN:VCALENDAR
VERSION:2.0
PRODID:-//Minorca//iCal Event Maker//IT
X-WR-CALNAME:Minorca
CALSCALE:GREGORIAN
BEGIN:VTIMEZONE
TZID:Europe/Rome
TZURL:http://tzurl.org/zoneinfo-outlook/Europe/Rome
X-LIC-LOCATION:Europe/Rome
BEGIN:DAYLIGHT
TZOFFSETFROM:+0100
TZOFFSETTO:+0200
TZNAME:CEST
DTSTART:19700329T020000
RRULE:FREQ=YEARLY;BYMONTH=3;BYDAY=-1SU
END:DAYLIGHT
BEGIN:STANDARD
TZOFFSETFROM:+0200
TZOFFSETTO:+0100
TZNAME:CET
DTSTART:19701025T030000
RRULE:FREQ=YEARLY;BYMONTH=10;BYDAY=-1SU
END:STANDARD
END:VTIMEZONE
BEGIN:VEVENT
CREATED:20260411T140329
DTSTAMP:20260420T134821
UID:39382
DTSTART:20260417T100000
DTEND:20260430T180000
LOCATION:Mahón, Spagna
GEO:39.8879487;39.8879487
DESCRIPTION:Mahon – Memoria del Contatto – dal 17 al 30 aprile Presso: Island Mood Entrata libera   La mostra “Memoria del contacto” dell’artista Marina Pons Wolff, presentata nell’ambito di Opening Menorca presso lo spazio Island Mood, raccoglie circa venti opere appartenenti a una stessa ricerca artistica. L’esposizione, visitabile dal 17 al 30 aprile, si concentra sul legame profondo tra l’essere umano e la terra, proponendo anche, in occasione dell’inaugurazione, un ...
SUMMARY:Mahon – Memoria del Contatto – dal 17 al 30 aprile
ORGANIZER:Minorca
URL;VALUE=URI:https://www.isoladiminorca.com/calendario-eventi/mahon-memoria-del-contatto-dal-17-al-30-aprile
TRANSP:OPAQUE
BEGIN:VALARM
ACTION:DISPLAY
TRIGGER;VALUE=DATE-TIME:20260416T100000
DESCRIPTION:Mahon – Memoria del Contatto – dal 17 al 30 aprile
END:VALARM
END:VEVENT
END:VCALENDAR
