BEGIN:VCALENDAR
VERSION:2.0
PRODID:-//Minorca//iCal Event Maker//IT
X-WR-CALNAME:Minorca
CALSCALE:GREGORIAN
BEGIN:VTIMEZONE
TZID:Europe/Rome
TZURL:http://tzurl.org/zoneinfo-outlook/Europe/Rome
X-LIC-LOCATION:Europe/Rome
BEGIN:DAYLIGHT
TZOFFSETFROM:+0100
TZOFFSETTO:+0200
TZNAME:CEST
DTSTART:19700329T020000
RRULE:FREQ=YEARLY;BYMONTH=3;BYDAY=-1SU
END:DAYLIGHT
BEGIN:STANDARD
TZOFFSETFROM:+0200
TZOFFSETTO:+0100
TZNAME:CET
DTSTART:19701025T030000
RRULE:FREQ=YEARLY;BYMONTH=10;BYDAY=-1SU
END:STANDARD
END:VTIMEZONE
BEGIN:VEVENT
CREATED:20260420T132555
DTSTAMP:20260420T160014
UID:39701
DTSTART:20260423T180000
DTEND:20260423T203000
LOCATION:Es Mercadal, Spagna
GEO:39.9873778;39.9873778
DESCRIPTION:Es Mercadal – Porte aperte nel laboratorio di Pere Vinent – 23 aprile Presso: C/Pla de ses Eres, 4 – Es Mercadal Ore 18:00 – 20:30   Giornate a porte aperte nel laboratorio di Pere Vinent: l’arte della tornitura del legno di Minorca. Durante la giornata di porte aperte, il pubblico potrà scoprire il laboratorio di tornitura e una piccola esposizione di pezzi realizzati nel corso degli ultimi nove anni. ...
SUMMARY:Es Mercadal – Porte aperte nel laboratorio di Pere Vinent – 23 aprile
ORGANIZER:Minorca
URL;VALUE=URI:https://www.isoladiminorca.com/calendario-eventi/es-mercadal-porte-aperte-nel-laboratorio-di-pere-vinent-23-aprile
TRANSP:OPAQUE
BEGIN:VALARM
ACTION:DISPLAY
TRIGGER;VALUE=DATE-TIME:20260422T180000
DESCRIPTION:Es Mercadal – Porte aperte nel laboratorio di Pere Vinent – 23 aprile
END:VALARM
END:VEVENT
END:VCALENDAR
