BEGIN:VCALENDAR
VERSION:2.0
PRODID:-//Minorca//iCal Event Maker//IT
X-WR-CALNAME:Minorca
CALSCALE:GREGORIAN
BEGIN:VTIMEZONE
TZID:Europe/Rome
TZURL:http://tzurl.org/zoneinfo-outlook/Europe/Rome
X-LIC-LOCATION:Europe/Rome
BEGIN:DAYLIGHT
TZOFFSETFROM:+0100
TZOFFSETTO:+0200
TZNAME:CEST
DTSTART:19700329T020000
RRULE:FREQ=YEARLY;BYMONTH=3;BYDAY=-1SU
END:DAYLIGHT
BEGIN:STANDARD
TZOFFSETFROM:+0200
TZOFFSETTO:+0100
TZNAME:CET
DTSTART:19701025T030000
RRULE:FREQ=YEARLY;BYMONTH=10;BYDAY=-1SU
END:STANDARD
END:VTIMEZONE
BEGIN:VEVENT
CREATED:20260421T122257
DTSTAMP:20260421T134043
UID:39721
DTSTART:20260424T160000
DTEND:20260424T190000
LOCATION:Ciutadella de Menorca, Spagna
GEO:39.9991163;39.9991163
DESCRIPTION:Ciutadella – Porte aperte e visita guidata a Lithica – 24 aprile Ore: dalle ore 16:00 porte aperte Dalle 17:30 alle 19:00 visita guidata “Percorso del Labitinto” Entrata: previa iscrizione inviando una mail a info@lithica.es   Le Cave di s'Hostal sono una grande scultura scolpita nella roccia di marés, uno spazio aperto nel paesaggio. Sono nate dalle mani del cavatore, un artigiano anonimo che taglia la pietra di marés per ...
SUMMARY:Ciutadella – Porte aperte e visita guidata a Lithica – 24 aprile
ORGANIZER:Minorca
URL;VALUE=URI:https://www.isoladiminorca.com/calendario-eventi/ciutadella-porte-aperte-e-visita-guidata-a-lithica-24-aprile
TRANSP:OPAQUE
BEGIN:VALARM
ACTION:DISPLAY
TRIGGER;VALUE=DATE-TIME:20260423T160000
DESCRIPTION:Ciutadella – Porte aperte e visita guidata a Lithica – 24 aprile
END:VALARM
END:VEVENT
END:VCALENDAR
